BEGIN:VCALENDAR
VERSION:2.0
CALSCALE:GREGORIAN
PRODID:-//Diputació de Barcelona//DibaCMS//EN
BEGIN:VEVENT
UID:23081
DTSTAMP:20260423T161044
DTSTART:20101120T170000
DTEND:20101120T170000
SUMMARY:Tarda de cine
LOCATION:
METHOD:PUBLISH
X-WR-CALNAME:e-seu@ajpiera.cat
X-WR-TIMEZONE:Europe/Madrid
DESCRIPTION:Tarda de cine

URI:https://www.viladepiera.cat/actualitat/agenda/tarda-de-cine.html
CLASS:PUBLIC
END:VEVENT
END:VCALENDAR
