BEGIN:VCALENDAR
VERSION:2.0
CALSCALE:GREGORIAN
PRODID:-//Diputació de Barcelona//DibaCMS//EN
BEGIN:VEVENT
UID:23083
DTSTAMP:20260423T162605
DTSTART:20101121T110000
DTEND:20101121T120000
SUMMARY:Presentació AE Piera
LOCATION:
METHOD:PUBLISH
X-WR-CALNAME:e-seu@ajpiera.cat
X-WR-TIMEZONE:Europe/Madrid
DESCRIPTION:Presentació AE Piera
URI:https://www.viladepiera.cat/actualitat/agenda/23083-presentacio-ae-piera.html
CLASS:PUBLIC
END:VEVENT
END:VCALENDAR
