BEGIN:VCALENDAR
VERSION:2.0
CALSCALE:GREGORIAN
PRODID:-//Diputació de Barcelona//DibaCMS//EN
BEGIN:VEVENT
UID:23086
DTSTAMP:20260423T121016
DTSTART:20101125T190000
DTEND:20101125T000000
SUMMARY:Acte contra la violència masclista
LOCATION:
METHOD:PUBLISH
X-WR-CALNAME:e-seu@ajpiera.cat
X-WR-TIMEZONE:Europe/Madrid
DESCRIPTION:Acte contra la violència masclista
URI:https://www.viladepiera.cat/actualitat/agenda/23086-acte-contra-la-violencia-masclista.html
CLASS:PUBLIC
END:VEVENT
END:VCALENDAR
