BEGIN:VCALENDAR
VERSION:2.0
CALSCALE:GREGORIAN
PRODID:-//Diputació de Barcelona//DibaCMS//EN
BEGIN:VEVENT
UID:23087
DTSTAMP:20260423T160907
DTSTART:20101125T180000
DTEND:20101125T000000
SUMMARY:Espectacle infantil: Lletraferits
LOCATION:
METHOD:PUBLISH
X-WR-CALNAME:e-seu@ajpiera.cat
X-WR-TIMEZONE:Europe/Madrid
DESCRIPTION:Espectacle infantil: Lletraferits
URI:https://www.viladepiera.cat/actualitat/agenda/espectacle-infantil-lletraferits.html
CLASS:PUBLIC
END:VEVENT
END:VCALENDAR
