BEGIN:VCALENDAR
VERSION:2.0
CALSCALE:GREGORIAN
PRODID:-//Diputació de Barcelona//DibaCMS//EN
BEGIN:VEVENT
UID:23089
DTSTAMP:20260423T162127
DTSTART:20101126T183000
DTEND:20101126T200000
SUMMARY:Setmana lluita contra la Sida
LOCATION:
METHOD:PUBLISH
X-WR-CALNAME:e-seu@ajpiera.cat
X-WR-TIMEZONE:Europe/Madrid
DESCRIPTION:Setmana lluita contra la Sida

URI:https://www.viladepiera.cat/actualitat/agenda/setmana-lluita-contra-la-sida.html
CLASS:PUBLIC
END:VEVENT
END:VCALENDAR
