BEGIN:VCALENDAR
VERSION:2.0
CALSCALE:GREGORIAN
PRODID:-//Diputació de Barcelona//DibaCMS//EN
BEGIN:VEVENT
UID:23091
DTSTAMP:20260423T132416
DTSTART:20101127T000000
DTEND:20101127T000000
SUMMARY:3a Festa de la Rosta
LOCATION:
METHOD:PUBLISH
X-WR-CALNAME:e-seu@ajpiera.cat
X-WR-TIMEZONE:Europe/Madrid
DESCRIPTION:3a Festa de la Rosta
URI:https://www.viladepiera.cat/actualitat/agenda/3a-festa-de-la-rosta.html
CLASS:PUBLIC
END:VEVENT
END:VCALENDAR
