BEGIN:VCALENDAR
VERSION:2.0
CALSCALE:GREGORIAN
PRODID:-//Diputació de Barcelona//DibaCMS//EN
BEGIN:VEVENT
UID:23093
DTSTAMP:20260423T121000
DTSTART:20101128T090000
DTEND:20101128T150000
SUMMARY:1r Campionat d'arts marcials
LOCATION:
METHOD:PUBLISH
X-WR-CALNAME:e-seu@ajpiera.cat
X-WR-TIMEZONE:Europe/Madrid
DESCRIPTION:1r Campionat d'arts marcials
URI:https://www.viladepiera.cat/actualitat/agenda/23093-1r-campionat-darts-marcials.html
CLASS:PUBLIC
END:VEVENT
END:VCALENDAR
