BEGIN:VCALENDAR
VERSION:2.0
CALSCALE:GREGORIAN
PRODID:-//Diputació de Barcelona//DibaCMS//EN
BEGIN:VEVENT
UID:23094
DTSTAMP:20260423T120924
DTSTART:20101128T190000
DTEND:20101128T000000
SUMMARY:Ball al Foment
LOCATION:
METHOD:PUBLISH
X-WR-CALNAME:e-seu@ajpiera.cat
X-WR-TIMEZONE:Europe/Madrid
DESCRIPTION:Ball al Foment
URI:https://www.viladepiera.cat/actualitat/agenda/23094-ball-al-foment.html
CLASS:PUBLIC
END:VEVENT
END:VCALENDAR
