BEGIN:VCALENDAR
VERSION:2.0
CALSCALE:GREGORIAN
PRODID:-//Diputació de Barcelona//DibaCMS//EN
BEGIN:VEVENT
UID:23095
DTSTAMP:20260423T161014
DTSTART:20101128T110000
DTEND:20101128T130000
SUMMARY:Portes obertes al Tennis Piera
LOCATION:
METHOD:PUBLISH
X-WR-CALNAME:e-seu@ajpiera.cat
X-WR-TIMEZONE:Europe/Madrid
DESCRIPTION:Portes obertes al Tennis Piera
URI:https://www.viladepiera.cat/actualitat/agenda/23095-portes-obertes-al-tennis-piera.html
CLASS:PUBLIC
END:VEVENT
END:VCALENDAR
