BEGIN:VCALENDAR
VERSION:2.0
CALSCALE:GREGORIAN
PRODID:-//Diputació de Barcelona//DibaCMS//EN
BEGIN:VEVENT
UID:23096
DTSTAMP:20260423T162810
DTSTART:20101129T000000
DTEND:20101129T000000
SUMMARY:Setmana lluita contra la Sida
LOCATION:
METHOD:PUBLISH
X-WR-CALNAME:e-seu@ajpiera.cat
X-WR-TIMEZONE:Europe/Madrid
DESCRIPTION:Setmana lluita contra la Sida
URI:https://www.viladepiera.cat/actualitat/agenda/23096-setmana-lluita-contra-la-sida.html
CLASS:PUBLIC
END:VEVENT
END:VCALENDAR
