BEGIN:VCALENDAR
VERSION:2.0
CALSCALE:GREGORIAN
PRODID:-//Diputació de Barcelona//DibaCMS//EN
BEGIN:VEVENT
UID:23098
DTSTAMP:20260423T162651
DTSTART:20101203T190000
DTEND:20101203T000000
SUMMARY:Anticurrículum de Pierino
LOCATION:
METHOD:PUBLISH
X-WR-CALNAME:e-seu@ajpiera.cat
X-WR-TIMEZONE:Europe/Madrid
DESCRIPTION:Anticurrículum de Pierino
URI:https://www.viladepiera.cat/actualitat/agenda/anticurriculum-de-pierino.html
CLASS:PUBLIC
END:VEVENT
END:VCALENDAR
