BEGIN:VCALENDAR
VERSION:2.0
CALSCALE:GREGORIAN
PRODID:-//Diputació de Barcelona//DibaCMS//EN
BEGIN:VEVENT
UID:23100
DTSTAMP:20260423T134634
DTSTART:20101203T173000
DTEND:20101203T223000
SUMMARY:Dia mundial de les persones amb discapacitat
LOCATION:
METHOD:PUBLISH
X-WR-CALNAME:e-seu@ajpiera.cat
X-WR-TIMEZONE:Europe/Madrid
DESCRIPTION:Dia mundial de les persones amb discapacitat
URI:https://www.viladepiera.cat/actualitat/agenda/23100-dia-mundial-de-les-persones-amb-discapacitat.html
CLASS:PUBLIC
END:VEVENT
END:VCALENDAR
