BEGIN:VCALENDAR
VERSION:2.0
CALSCALE:GREGORIAN
PRODID:-//Diputació de Barcelona//DibaCMS//EN
BEGIN:VEVENT
UID:23101
DTSTAMP:20260423T172333
DTSTART:20101205T170000
DTEND:20101205T170000
SUMMARY:Gala de PTV
LOCATION:
METHOD:PUBLISH
X-WR-CALNAME:e-seu@ajpiera.cat
X-WR-TIMEZONE:Europe/Madrid
DESCRIPTION:Gala de PTV

URI:https://www.viladepiera.cat/actualitat/agenda/gala-de-ptv.html
CLASS:PUBLIC
END:VEVENT
END:VCALENDAR
