BEGIN:VCALENDAR
VERSION:2.0
CALSCALE:GREGORIAN
PRODID:-//Diputació de Barcelona//DibaCMS//EN
BEGIN:VEVENT
UID:23102
DTSTAMP:20260423T133517
DTSTART:20101210T183000
DTEND:20101210T000000
SUMMARY:Audicions de Nadal
LOCATION:
METHOD:PUBLISH
X-WR-CALNAME:e-seu@ajpiera.cat
X-WR-TIMEZONE:Europe/Madrid
DESCRIPTION:Audicions de Nadal
URI:https://www.viladepiera.cat/actualitat/agenda/audicions-de-nadal.html
CLASS:PUBLIC
END:VEVENT
END:VCALENDAR
