BEGIN:VCALENDAR
VERSION:2.0
CALSCALE:GREGORIAN
PRODID:-//Diputació de Barcelona//DibaCMS//EN
BEGIN:VEVENT
UID:23105
DTSTAMP:20260423T175315
DTSTART:20101211T100000
DTEND:20101211T220000
SUMMARY:XII Marató de Piera Televisió
LOCATION:
METHOD:PUBLISH
X-WR-CALNAME:e-seu@ajpiera.cat
X-WR-TIMEZONE:Europe/Madrid
DESCRIPTION:XII Marató de Piera Televisió
URI:https://www.viladepiera.cat/actualitat/agenda/xii-marato-de-piera-televisio.html
CLASS:PUBLIC
END:VEVENT
END:VCALENDAR
