BEGIN:VCALENDAR
VERSION:2.0
CALSCALE:GREGORIAN
PRODID:-//Diputació de Barcelona//DibaCMS//EN
BEGIN:VEVENT
UID:23106
DTSTAMP:20260424T075059
DTSTART:20101212T111500
DTEND:20101212T000000
SUMMARY:750 aniversari consagració església Sta. Maria
LOCATION:
METHOD:PUBLISH
X-WR-CALNAME:e-seu@ajpiera.cat
X-WR-TIMEZONE:Europe/Madrid
DESCRIPTION:750 aniversari consagració església Sta. Maria
URI:https://www.viladepiera.cat/actualitat/agenda/750-aniversari-consagracio-esglesia-sta-maria.html
CLASS:PUBLIC
END:VEVENT
END:VCALENDAR
