BEGIN:VCALENDAR
VERSION:2.0
CALSCALE:GREGORIAN
PRODID:-//Diputació de Barcelona//DibaCMS//EN
BEGIN:VEVENT
UID:23112
DTSTAMP:20260423T175255
DTSTART:20101215T190000
DTEND:20101215T000000
SUMMARY:Conferència: Educar jugant
LOCATION:
METHOD:PUBLISH
X-WR-CALNAME:e-seu@ajpiera.cat
X-WR-TIMEZONE:Europe/Madrid
DESCRIPTION:Conferència: Educar jugant
URI:https://www.viladepiera.cat/actualitat/agenda/conferencia-educar-jugant.html
CLASS:PUBLIC
END:VEVENT
END:VCALENDAR
