BEGIN:VCALENDAR
VERSION:2.0
CALSCALE:GREGORIAN
PRODID:-//Diputació de Barcelona//DibaCMS//EN
BEGIN:VEVENT
UID:23113
DTSTAMP:20260423T230352
DTSTART:20101216T170000
DTEND:20101216T000000
SUMMARY:Inauguració de l'exposició de Pierenques
LOCATION:
METHOD:PUBLISH
X-WR-CALNAME:e-seu@ajpiera.cat
X-WR-TIMEZONE:Europe/Madrid
DESCRIPTION:Inauguració de l'exposició de Pierenques
URI:https://www.viladepiera.cat/actualitat/agenda/inauguracio-de-lexposicio-de-pierenques.html
CLASS:PUBLIC
END:VEVENT
END:VCALENDAR
