BEGIN:VCALENDAR
VERSION:2.0
CALSCALE:GREGORIAN
PRODID:-//Diputació de Barcelona//DibaCMS//EN
BEGIN:VEVENT
UID:23115
DTSTAMP:20260423T202054
DTSTART:20101217T100000
DTEND:20101217T220000
SUMMARY:Marató de joguines 2010-2011
LOCATION:
METHOD:PUBLISH
X-WR-CALNAME:e-seu@ajpiera.cat
X-WR-TIMEZONE:Europe/Madrid
DESCRIPTION:Marató de joguines 2010-2011
URI:https://www.viladepiera.cat/actualitat/agenda/marato-de-joguines-2010-2011.html
CLASS:PUBLIC
END:VEVENT
END:VCALENDAR
