BEGIN:VCALENDAR
VERSION:2.0
CALSCALE:GREGORIAN
PRODID:-//Diputació de Barcelona//DibaCMS//EN
BEGIN:VEVENT
UID:23116
DTSTAMP:20260424T011733
DTSTART:20101217T184500
DTEND:20101217T000000
SUMMARY:Xerrada: Bancs vs. caixes 
LOCATION:
METHOD:PUBLISH
X-WR-CALNAME:e-seu@ajpiera.cat
X-WR-TIMEZONE:Europe/Madrid
DESCRIPTION:Xerrada: Bancs vs. caixes 
URI:https://www.viladepiera.cat/actualitat/agenda/xerrada-bancs-vs-caixes-.html
CLASS:PUBLIC
END:VEVENT
END:VCALENDAR
