BEGIN:VCALENDAR
VERSION:2.0
CALSCALE:GREGORIAN
PRODID:-//Diputació de Barcelona//DibaCMS//EN
BEGIN:VEVENT
UID:23118
DTSTAMP:20260423T174600
DTSTART:20101218T100000
DTEND:20101218T200000
SUMMARY:II Fira de Nadal
LOCATION:
METHOD:PUBLISH
X-WR-CALNAME:e-seu@ajpiera.cat
X-WR-TIMEZONE:Europe/Madrid
DESCRIPTION:II Fira de Nadal
URI:https://www.viladepiera.cat/actualitat/agenda/ii-fira-de-nadal.html
CLASS:PUBLIC
END:VEVENT
END:VCALENDAR
