BEGIN:VCALENDAR
VERSION:2.0
CALSCALE:GREGORIAN
PRODID:-//Diputació de Barcelona//DibaCMS//EN
BEGIN:VEVENT
UID:23119
DTSTAMP:20260424T010347
DTSTART:20101218T100000
DTEND:20101218T000000
SUMMARY:Torneig de petanca
LOCATION:
METHOD:PUBLISH
X-WR-CALNAME:e-seu@ajpiera.cat
X-WR-TIMEZONE:Europe/Madrid
DESCRIPTION:Torneig de petanca
URI:https://www.viladepiera.cat/actualitat/agenda/23119-torneig-de-petanca.html
CLASS:PUBLIC
END:VEVENT
END:VCALENDAR
