BEGIN:VCALENDAR
VERSION:2.0
CALSCALE:GREGORIAN
PRODID:-//Diputació de Barcelona//DibaCMS//EN
BEGIN:VEVENT
UID:23120
DTSTAMP:20260424T080603
DTSTART:20101218T110000
DTEND:20101218T000000
SUMMARY:Recital de Nadales
LOCATION:
METHOD:PUBLISH
X-WR-CALNAME:e-seu@ajpiera.cat
X-WR-TIMEZONE:Europe/Madrid
DESCRIPTION:Recital de Nadales
URI:https://www.viladepiera.cat/actualitat/agenda/23120-recital-de-nadales.html
CLASS:PUBLIC
END:VEVENT
END:VCALENDAR
