BEGIN:VCALENDAR
VERSION:2.0
CALSCALE:GREGORIAN
PRODID:-//Diputació de Barcelona//DibaCMS//EN
BEGIN:VEVENT
UID:23121
DTSTAMP:20260423T120948
DTSTART:20101218T170000
DTEND:20101218T000000
SUMMARY:Taller de cartes als Reis
LOCATION:
METHOD:PUBLISH
X-WR-CALNAME:e-seu@ajpiera.cat
X-WR-TIMEZONE:Europe/Madrid
DESCRIPTION:Taller de cartes als Reis
URI:https://www.viladepiera.cat/actualitat/agenda/23121-taller-de-cartes-als-reis.html
CLASS:PUBLIC
END:VEVENT
END:VCALENDAR
