BEGIN:VCALENDAR
VERSION:2.0
CALSCALE:GREGORIAN
PRODID:-//Diputació de Barcelona//DibaCMS//EN
BEGIN:VEVENT
UID:23122
DTSTAMP:20260423T132128
DTSTART:20101218T170000
DTEND:20101218T000000
SUMMARY:Commemoració de la setmana de Nadal
LOCATION:
METHOD:PUBLISH
X-WR-CALNAME:e-seu@ajpiera.cat
X-WR-TIMEZONE:Europe/Madrid
DESCRIPTION:Commemoració de la setmana de Nadal
URI:https://www.viladepiera.cat/actualitat/agenda/commemoracio-de-la-setmana-de-nadal.html
CLASS:PUBLIC
END:VEVENT
END:VCALENDAR
