BEGIN:VCALENDAR
VERSION:2.0
CALSCALE:GREGORIAN
PRODID:-//Diputació de Barcelona//DibaCMS//EN
BEGIN:VEVENT
UID:23123
DTSTAMP:20260423T161259
DTSTART:20101218T223000
DTEND:20101218T000000
SUMMARY:Màgia amb Àlex Ferrer
LOCATION:
METHOD:PUBLISH
X-WR-CALNAME:e-seu@ajpiera.cat
X-WR-TIMEZONE:Europe/Madrid
DESCRIPTION:Màgia amb Àlex Ferrer
URI:https://www.viladepiera.cat/actualitat/agenda/magia-amb-alex-ferrer.html
CLASS:PUBLIC
END:VEVENT
END:VCALENDAR
