BEGIN:VCALENDAR
VERSION:2.0
CALSCALE:GREGORIAN
PRODID:-//Diputació de Barcelona//DibaCMS//EN
BEGIN:VEVENT
UID:23124
DTSTAMP:20260423T104538
DTSTART:20101219T100000
DTEND:20101219T140000
SUMMARY:II Fira de Nadal
LOCATION:
METHOD:PUBLISH
X-WR-CALNAME:e-seu@ajpiera.cat
X-WR-TIMEZONE:Europe/Madrid
DESCRIPTION:II Fira de Nadal
URI:https://www.viladepiera.cat/actualitat/agenda/23124-ii-fira-de-nadal.html
CLASS:PUBLIC
END:VEVENT
END:VCALENDAR
