BEGIN:VCALENDAR
VERSION:2.0
CALSCALE:GREGORIAN
PRODID:-//Diputació de Barcelona//DibaCMS//EN
BEGIN:VEVENT
UID:23125
DTSTAMP:20260423T120848
DTSTART:20101219T110000
DTEND:20101219T140000
SUMMARY:La piscina amb la Marató de TV3
LOCATION:
METHOD:PUBLISH
X-WR-CALNAME:e-seu@ajpiera.cat
X-WR-TIMEZONE:Europe/Madrid
DESCRIPTION:La piscina amb la Marató de TV3

URI:https://www.viladepiera.cat/actualitat/agenda/la-piscina-amb-la-marato-de-tv3.html
CLASS:PUBLIC
END:VEVENT
END:VCALENDAR
