BEGIN:VCALENDAR
VERSION:2.0
CALSCALE:GREGORIAN
PRODID:-//Diputació de Barcelona//DibaCMS//EN
BEGIN:VEVENT
UID:23126
DTSTAMP:20260423T104819
DTSTART:20101219T120000
DTEND:20101219T000000
SUMMARY:Espectacle de pallassos i aperitiu d'amistat
LOCATION:
METHOD:PUBLISH
X-WR-CALNAME:e-seu@ajpiera.cat
X-WR-TIMEZONE:Europe/Madrid
DESCRIPTION:Espectacle de pallassos i aperitiu d'amistat
URI:https://www.viladepiera.cat/actualitat/agenda/espectacle-de-pallassos-i-aperitiu-damistat.html
CLASS:PUBLIC
END:VEVENT
END:VCALENDAR
