BEGIN:VCALENDAR
VERSION:2.0
CALSCALE:GREGORIAN
PRODID:-//Diputació de Barcelona//DibaCMS//EN
BEGIN:VEVENT
UID:23127
DTSTAMP:20260423T162931
DTSTART:20101219T170000
DTEND:20101219T000000
SUMMARY:Concert
LOCATION:
METHOD:PUBLISH
X-WR-CALNAME:e-seu@ajpiera.cat
X-WR-TIMEZONE:Europe/Madrid
DESCRIPTION:Concert
URI:https://www.viladepiera.cat/actualitat/agenda/23127-concert.html
CLASS:PUBLIC
END:VEVENT
END:VCALENDAR
