BEGIN:VCALENDAR
VERSION:2.0
CALSCALE:GREGORIAN
PRODID:-//Diputació de Barcelona//DibaCMS//EN
BEGIN:VEVENT
UID:23128
DTSTAMP:20260423T105947
DTSTART:20101220T173000
DTEND:20101220T000000
SUMMARY:Taller infantil
LOCATION:
METHOD:PUBLISH
X-WR-CALNAME:e-seu@ajpiera.cat
X-WR-TIMEZONE:Europe/Madrid
DESCRIPTION:Taller infantil
URI:https://www.viladepiera.cat/actualitat/agenda/23128-taller-infantil.html
CLASS:PUBLIC
END:VEVENT
END:VCALENDAR
