BEGIN:VCALENDAR
VERSION:2.0
CALSCALE:GREGORIAN
PRODID:-//Diputació de Barcelona//DibaCMS//EN
BEGIN:VEVENT
UID:23131
DTSTAMP:20260423T174446
DTSTART:20101222T170000
DTEND:20101222T190000
SUMMARY:Bingo especial de Nadal
LOCATION:
METHOD:PUBLISH
X-WR-CALNAME:e-seu@ajpiera.cat
X-WR-TIMEZONE:Europe/Madrid
DESCRIPTION:Bingo especial de Nadal
URI:https://www.viladepiera.cat/actualitat/agenda/bingo-especial-de-nadal.html
CLASS:PUBLIC
END:VEVENT
END:VCALENDAR
