BEGIN:VCALENDAR
VERSION:2.0
CALSCALE:GREGORIAN
PRODID:-//Diputació de Barcelona//DibaCMS//EN
BEGIN:VEVENT
UID:23137
DTSTAMP:20260423T100815
DTSTART:20101225T233000
DTEND:20101225T000000
SUMMARY:Cerka'l concert
LOCATION:
METHOD:PUBLISH
X-WR-CALNAME:e-seu@ajpiera.cat
X-WR-TIMEZONE:Europe/Madrid
DESCRIPTION:Cerka'l concert
URI:https://www.viladepiera.cat/actualitat/agenda/cerkal-concert.html
CLASS:PUBLIC
END:VEVENT
END:VCALENDAR
