BEGIN:VCALENDAR
VERSION:2.0
CALSCALE:GREGORIAN
PRODID:-//Diputació de Barcelona//DibaCMS//EN
BEGIN:VEVENT
UID:23139
DTSTAMP:20260423T161105
DTSTART:20101226T090000
DTEND:20101226T120000
SUMMARY:58è Concurs de pessebres
LOCATION:
METHOD:PUBLISH
X-WR-CALNAME:e-seu@ajpiera.cat
X-WR-TIMEZONE:Europe/Madrid
DESCRIPTION:58è Concurs de pessebres
URI:https://www.viladepiera.cat/actualitat/agenda/58e-concurs-de-pessebres.html
CLASS:PUBLIC
END:VEVENT
END:VCALENDAR
