BEGIN:VCALENDAR
VERSION:2.0
CALSCALE:GREGORIAN
PRODID:-//Diputació de Barcelona//DibaCMS//EN
BEGIN:VEVENT
UID:23141
DTSTAMP:20260423T111957
DTSTART:20101227T090000
DTEND:20101229T200000
SUMMARY:VIII Campionat de Futbol Sala Nadal 2010
LOCATION:
METHOD:PUBLISH
X-WR-CALNAME:e-seu@ajpiera.cat
X-WR-TIMEZONE:Europe/Madrid
DESCRIPTION:VIII Campionat de Futbol Sala Nadal 2010
URI:https://www.viladepiera.cat/actualitat/agenda/viii-campionat-de-futbol-sala-nadal-2010.html
CLASS:PUBLIC
END:VEVENT
END:VCALENDAR
