BEGIN:VCALENDAR
VERSION:2.0
CALSCALE:GREGORIAN
PRODID:-//Diputació de Barcelona//DibaCMS//EN
BEGIN:VEVENT
UID:23145
DTSTAMP:20260423T162523
DTSTART:20110101T000000
DTEND:20110101T000000
SUMMARY:Misses d'any nou
LOCATION:
METHOD:PUBLISH
X-WR-CALNAME:e-seu@ajpiera.cat
X-WR-TIMEZONE:Europe/Madrid
DESCRIPTION:Misses d'any nou

URI:https://www.viladepiera.cat/actualitat/agenda/misses-dany-nou.html
CLASS:PUBLIC
END:VEVENT
END:VCALENDAR
