BEGIN:VCALENDAR
VERSION:2.0
CALSCALE:GREGORIAN
PRODID:-//Diputació de Barcelona//DibaCMS//EN
BEGIN:VEVENT
UID:23146
DTSTAMP:20260423T134723
DTSTART:20110101T130000
DTEND:20110101T000000
SUMMARY:Arribada del patge reial a Ca n'Aguilera
LOCATION:
METHOD:PUBLISH
X-WR-CALNAME:e-seu@ajpiera.cat
X-WR-TIMEZONE:Europe/Madrid
DESCRIPTION:Arribada del patge reial a Ca n'Aguilera
URI:https://www.viladepiera.cat/actualitat/agenda/arribada-del-patge-reial-a-ca-naguilera.html
CLASS:PUBLIC
END:VEVENT
END:VCALENDAR
