BEGIN:VCALENDAR
VERSION:2.0
CALSCALE:GREGORIAN
PRODID:-//Diputació de Barcelona//DibaCMS//EN
BEGIN:VEVENT
UID:23148
DTSTAMP:20260423T101128
DTSTART:20110102T100000
DTEND:20110102T100000
SUMMARY:XV Saló Infància i Joventut (recollida carta Reis)
LOCATION:
METHOD:PUBLISH
X-WR-CALNAME:e-seu@ajpiera.cat
X-WR-TIMEZONE:Europe/Madrid
DESCRIPTION:XV Saló Infància i Joventut (recollida carta Reis)

URI:https://www.viladepiera.cat/actualitat/agenda/xv-salo-infancia-i-joventut-recollida-carta-reis.html
CLASS:PUBLIC
END:VEVENT
END:VCALENDAR
