BEGIN:VCALENDAR
VERSION:2.0
CALSCALE:GREGORIAN
PRODID:-//Diputació de Barcelona//DibaCMS//EN
BEGIN:VEVENT
UID:23150
DTSTAMP:20260423T111009
DTSTART:20110102T113000
DTEND:20110102T130000
SUMMARY:Arribada del patge reial a la Venta-Can Mussarro
LOCATION:
METHOD:PUBLISH
X-WR-CALNAME:e-seu@ajpiera.cat
X-WR-TIMEZONE:Europe/Madrid
DESCRIPTION:Arribada del patge reial a la Venta-Can Mussarro
URI:https://www.viladepiera.cat/actualitat/agenda/arribada-del-patge-reial-a-la-venta-can-mussarro.html
CLASS:PUBLIC
END:VEVENT
END:VCALENDAR
