BEGIN:VCALENDAR
VERSION:2.0
CALSCALE:GREGORIAN
PRODID:-//Diputació de Barcelona//DibaCMS//EN
BEGIN:VEVENT
UID:23152
DTSTAMP:20260423T123334
DTSTART:20110102T170000
DTEND:20110102T000000
SUMMARY:Arribada del patge reial a Can Canals
LOCATION:
METHOD:PUBLISH
X-WR-CALNAME:e-seu@ajpiera.cat
X-WR-TIMEZONE:Europe/Madrid
DESCRIPTION:Arribada del patge reial a Can Canals
URI:https://www.viladepiera.cat/actualitat/agenda/arribada-del-patge-reial-a-can-canals.html
CLASS:PUBLIC
END:VEVENT
END:VCALENDAR
