BEGIN:VCALENDAR
VERSION:2.0
CALSCALE:GREGORIAN
PRODID:-//Diputació de Barcelona//DibaCMS//EN
BEGIN:VEVENT
UID:23153
DTSTAMP:20260423T093740
DTSTART:20110105T183000
DTEND:20110105T000000
SUMMARY:64a cavalcada de Reis
LOCATION:
METHOD:PUBLISH
X-WR-CALNAME:e-seu@ajpiera.cat
X-WR-TIMEZONE:Europe/Madrid
DESCRIPTION:64a cavalcada de Reis
URI:https://www.viladepiera.cat/actualitat/agenda/64a-cavalcada-de-reis.html
CLASS:PUBLIC
END:VEVENT
END:VCALENDAR
