BEGIN:VCALENDAR
VERSION:2.0
CALSCALE:GREGORIAN
PRODID:-//Diputació de Barcelona//DibaCMS//EN
BEGIN:VEVENT
UID:23154
DTSTAMP:20260423T172512
DTSTART:20110105T000000
DTEND:20110105T000000
SUMMARY:Cavalcada de Reis als barris
LOCATION:
METHOD:PUBLISH
X-WR-CALNAME:e-seu@ajpiera.cat
X-WR-TIMEZONE:Europe/Madrid
DESCRIPTION:Cavalcada de Reis als barris

URI:https://www.viladepiera.cat/actualitat/agenda/cavalcada-de-reis-als-barris.html
CLASS:PUBLIC
END:VEVENT
END:VCALENDAR
