BEGIN:VCALENDAR
VERSION:2.0
CALSCALE:GREGORIAN
PRODID:-//Diputació de Barcelona//DibaCMS//EN
BEGIN:VEVENT
UID:23155
DTSTAMP:20260423T172731
DTSTART:20110108T220000
DTEND:20110108T220000
SUMMARY:Missa solemne de Reis
LOCATION:
METHOD:PUBLISH
X-WR-CALNAME:e-seu@ajpiera.cat
X-WR-TIMEZONE:Europe/Madrid
DESCRIPTION:Missa solemne de Reis

URI:https://www.viladepiera.cat/actualitat/agenda/23155-missa-solemne-de-reis.html
CLASS:PUBLIC
END:VEVENT
END:VCALENDAR
