BEGIN:VCALENDAR
VERSION:2.0
CALSCALE:GREGORIAN
PRODID:-//Diputació de Barcelona//DibaCMS//EN
BEGIN:VEVENT
UID:23161
DTSTAMP:20260423T100510
DTSTART:20110114T183000
DTEND:20110114T000000
SUMMARY:Club  de literatura i cinema
LOCATION:
METHOD:PUBLISH
X-WR-CALNAME:e-seu@ajpiera.cat
X-WR-TIMEZONE:Europe/Madrid
DESCRIPTION:Club  de literatura i cinema
URI:https://www.viladepiera.cat/actualitat/agenda/23161-club-de-literatura-i-cinema.html
CLASS:PUBLIC
END:VEVENT
END:VCALENDAR
