BEGIN:VCALENDAR
VERSION:2.0
CALSCALE:GREGORIAN
PRODID:-//Diputació de Barcelona//DibaCMS//EN
BEGIN:VEVENT
UID:23164
DTSTAMP:20260423T110444
DTSTART:20110120T183000
DTEND:20110120T000000
SUMMARY:Taller de neteja ecològica a la llar
LOCATION:
METHOD:PUBLISH
X-WR-CALNAME:e-seu@ajpiera.cat
X-WR-TIMEZONE:Europe/Madrid
DESCRIPTION:Taller de neteja ecològica a la llar
URI:https://www.viladepiera.cat/actualitat/agenda/taller-de-neteja-ecologica-a-la-llar.html
CLASS:PUBLIC
END:VEVENT
END:VCALENDAR
