BEGIN:VCALENDAR
VERSION:2.0
CALSCALE:GREGORIAN
PRODID:-//Diputació de Barcelona//DibaCMS//EN
BEGIN:VEVENT
UID:23169
DTSTAMP:20260423T104651
DTSTART:20110126T173000
DTEND:20110126T000000
SUMMARY:Taller infantil
LOCATION:
METHOD:PUBLISH
X-WR-CALNAME:e-seu@ajpiera.cat
X-WR-TIMEZONE:Europe/Madrid
DESCRIPTION:Taller infantil
URI:https://www.viladepiera.cat/actualitat/agenda/23169-taller-infantil.html
CLASS:PUBLIC
END:VEVENT
END:VCALENDAR
