BEGIN:VCALENDAR
VERSION:2.0
CALSCALE:GREGORIAN
PRODID:-//Diputació de Barcelona//DibaCMS//EN
BEGIN:VEVENT
UID:23174
DTSTAMP:20260423T121721
DTSTART:20110129T110000
DTEND:20110129T140000
SUMMARY:Fira d'intercanvi
LOCATION:
METHOD:PUBLISH
X-WR-CALNAME:e-seu@ajpiera.cat
X-WR-TIMEZONE:Europe/Madrid
DESCRIPTION:Fira d'intercanvi
URI:https://www.viladepiera.cat/actualitat/agenda/23174-fira-dintercanvi.html
CLASS:PUBLIC
END:VEVENT
END:VCALENDAR
