BEGIN:VCALENDAR
VERSION:2.0
CALSCALE:GREGORIAN
PRODID:-//Diputació de Barcelona//DibaCMS//EN
BEGIN:VEVENT
UID:23176
DTSTAMP:20260423T160922
DTSTART:20110130T110000
DTEND:20110130T000000
SUMMARY:Pierenques: poesia i natura
LOCATION:
METHOD:PUBLISH
X-WR-CALNAME:e-seu@ajpiera.cat
X-WR-TIMEZONE:Europe/Madrid
DESCRIPTION:Pierenques: poesia i natura
URI:https://www.viladepiera.cat/actualitat/agenda/pierenques-poesia-i-natura.html
CLASS:PUBLIC
END:VEVENT
END:VCALENDAR
