BEGIN:VCALENDAR
VERSION:2.0
CALSCALE:GREGORIAN
PRODID:-//Diputació de Barcelona//DibaCMS//EN
BEGIN:VEVENT
UID:23178
DTSTAMP:20260423T121637
DTSTART:20110131T000000
DTEND:20110131T000000
SUMMARY:Concurs: La travessa dels Òscar
LOCATION:
METHOD:PUBLISH
X-WR-CALNAME:e-seu@ajpiera.cat
X-WR-TIMEZONE:Europe/Madrid
DESCRIPTION:Concurs: La travessa dels Òscar
URI:https://www.viladepiera.cat/actualitat/agenda/concurs-la-travessa-dels-oscar.html
CLASS:PUBLIC
END:VEVENT
END:VCALENDAR
