BEGIN:VCALENDAR
VERSION:2.0
CALSCALE:GREGORIAN
PRODID:-//Diputació de Barcelona//DibaCMS//EN
BEGIN:VEVENT
UID:23180
DTSTAMP:20260423T183425
DTSTART:20110202T070000
DTEND:20110202T170000
SUMMARY:Tall d'aigua: Can Martí
LOCATION:
METHOD:PUBLISH
X-WR-CALNAME:e-seu@ajpiera.cat
X-WR-TIMEZONE:Europe/Madrid
DESCRIPTION:Tall d'aigua: Can Martí
URI:https://www.viladepiera.cat/actualitat/agenda/tall-daigua-can-marti.html
CLASS:PUBLIC
END:VEVENT
END:VCALENDAR
